Workbook

Sheet Coversheet
A1: =K2&" "&L2 -> SCHOOL NAME: | D1: Total Program Hours | G1: =SUM(H6:H51) -> 34.75 | I1: =IFERROR(SUM(I6:I51),0) -> 1 | K1: DATE: | U1: 1111
A2: =K3&" "&L3 -> ADDRESS: | K2: SCHOOL NAME:
A3: =K4&" "&L4 -> PERSON APPLYING AND TITLE: | G3: Theory | I3: ='Application by Block Classes 1'!G384 -> 17.75 | K3: ADDRESS:
A4: =K5&" "&L5 -> DEALER SPONSOR: | G4: HandsOn | I4: ='Application by Block Classes 1'!G385 -> 17 | K4: PERSON APPLYING AND TITLE:
C5: Sheet 1 | E5: Sheet 2 | G5: Total | K5: DEALER SPONSOR:
A6: Section 1 | B6: Safe Operation | D6: =SUM(C7:C8) -> 5.75 | F6: =SUM(E7:E8) -> 0 | H6: =SUM(F6,D6) -> 5.75 | I6: =IFERROR(H6/$G$1,0) -> 0.16546763 | K6: PHONE/FAX:
A7: 1a | B7: Theory and Operation | C7: ='Application by Block Classes 1'!AG26 -> 5.75 | E7: ='Application by Block Classes 2'!AG26 -> 0 | G7: =SUM(C7:E7) -> 5.75 | K7: EMAIL:
A8: 1b | B8: Adminstrative | C8: ='Application by Block Classes 1'!AG35 -> 0 | E8: ='Application by Block Classes 2'!AG35 -> 0 | G8: =SUM(C8:E8) -> 0 | K8: PROGRAM NAME:
A9: Section 2 | B9: Electronics/Electrical Systems | D9: =SUM(C10:C19) -> 0 | F9: =SUM(E10:E19) -> 0 | H9: =SUM(F9,D9) -> 0 | I9: =IFERROR(H9/$G$1,0) -> 0 | K9: PHONE/FAX:
A10: 2.1 | B10: Fundamental Knowledge | C10: ='Application by Block Classes 1'!AG43 -> 0 | E10: ='Application by Block Classes 2'!AG43 -> 0 | G10: =SUM(C10:E10) -> 0 | K10: DEPT. CHAIR/HEAD:
A11: 2.2 | B11: Ohm's Law | C11: ='Application by Block Classes 1'!AG49 -> 0 | E11: ='Application by Block Classes 2'!AG49 -> 0 | G11: =SUM(C11:E11) -> 0 | K11: CONTACT NAME:
A12: 2.3 | B12: 12 and 24 Volt Cranking Systems | C12: ='Application by Block Classes 1'!AG57 -> 0 | E12: ='Application by Block Classes 2'!AG57 -> 0 | G12: =SUM(C12:E12) -> 0
A13: 2.4 | B13: 12 and 24 Volt Charging Systems | C13: ='Application by Block Classes 1'!AG65 -> 0 | E13: ='Application by Block Classes 2'!AG65 -> 0 | G13: =SUM(C13:E13) -> 0
A14: 2.5 | B14: Lighting, Accessory and Control Systems | C14: ='Application by Block Classes 1'!AG73 -> 0 | E14: ='Application by Block Classes 2'!AG73 -> 0 | G14: =SUM(C14:E14) -> 0
A15: 2.6 | B15: Electrical Schematics/Diagrams | C15: ='Application by Block Classes 1'!AG79 -> 0 | E15: ='Application by Block Classes 2'!AG79 -> 0 | G15: =SUM(C15:E15) -> 0
A16: 2.7 | B16: Data Communications Networks | C16: ='Application by Block Classes 1'!AG85 -> 0 | E16: ='Application by Block Classes 2'!AG85 -> 0 | G16: =SUM(C16:E16) -> 0
A17: 2.8 | B17: Telematics and Emerging Technologies | C17: ='Application by Block Classes 1'!AG86 -> 0 | E17: ='Application by Block Classes 2'!AG90 -> 0 | G17: =SUM(C17:E17) -> 0
A18: 2.9 | B18: Electric Drive and Hybrid System Familiarization | C18: ='Application by Block Classes 1'!AG87 -> 0 | E18: ='Application by Block Classes 2'!AG95 -> 0 | G18: =SUM(C18:E18) -> 0
A19: 2.1 | B19: Diagnostics | C19: ='Application by Block Classes 1'!AG106 -> 0 | E19: ='Application by Block Classes 2'!AG106 -> 0 | G19: =SUM(C19:E19) -> 0
A20: Section 3 | B20: Hydraulics/Hydrostatics Systems | D20: =SUM(C21:C26) -> 0 | F20: =SUM(E21:E26) -> 0 | H20: =SUM(F20,D20) -> 0 | I20: =IFERROR(H20/$G$1,0) -> 0
A21: 3.1 | B21: Theory and Operation of Hydraulics and Hydrostatics | C21: ='Application by Block Classes 1'!AG129 -> 0 | E21: ='Application by Block Classes 2'!AG129 -> 0 | G21: =SUM(C21:E21) -> 0
A22: 3.2 | B22: Fluids, Transfer Components and Filtering | C22: ='Application by Block Classes 1'!AG136 -> 0 | E22: ='Application by Block Classes 2'!AG136 -> 0 | G22: =SUM(C22:E22) -> 0
A23: 3.3 | B23: Maintenance Procedures | C23: ='Application by Block Classes 1'!AG147 -> 0 | E23: ='Application by Block Classes 2'!AG147 -> 0 | G23: =SUM(C23:E23) -> 0
A24: 3.4 | B24: Component Repair and Replacement | C24: ='Application by Block Classes 1'!AG157 -> 0 | E24: ='Application by Block Classes 2'!AG157 -> 0 | G24: =SUM(C24:E24) -> 0
A25: 3.5 | B25: Hydraulic Schematics | C25: ='Application by Block Classes 1'!AG164 -> 0 | E25: ='Application by Block Classes 2'!AG164 -> 0 | G25: =SUM(C25:E25) -> 0
A26: 3.6 | B26: Diagnostics:Systems and Component Troubleshooting | C26: ='Application by Block Classes 1'!AG174 -> 0 | E26: ='Application by Block Classes 2'!AG174 -> 0 | G26: =SUM(C26:E26) -> 0
A27: Section 4 | B27: Power Train Systems | D27: =SUM(C28:C34) -> 29 | F27: =SUM(E28:E34) -> 0 | H27: =SUM(F27,D27) -> 29 | I27: =IFERROR(H27/$G$1,0) -> 0.83453237
A28: 4.1 | B28: Theory and Operation | C28: ='Application by Block Classes 1'!AG198 -> 29 | E28: ='Application by Block Classes 2'!AG198 -> 0 | G28: =SUM(C28:E28) -> 29
A29: 4.2 | B29: Differential, Final Drive, Undercarriage and Driveshaft Function | C29: ='Application by Block Classes 1'!AG207 -> 0 | E29: ='Application by Block Classes 2'!AG208 -> 0 | G29: =SUM(C29:E29) -> 0
A30: 4.3 | B30: Theory of Hydraulic and Pneumatic Braking Systems | C30: ='Application by Block Classes 1'!AG216 -> 0 | E30: ='Application by Block Classes 2'!AG218 -> 0 | G30: =SUM(C30:E30) -> 0
A31: 4.4 | B31: Understanding Maintenance Practices in Powertrains | C31: ='Application by Block Classes 1'!AG223 -> 0 | E31: ='Application by Block Classes 2'!AG226 -> 0 | G31: =SUM(C31:E31) -> 0
A32: 4.5 | B32: Power Train Schematics and flow diagrams | C32: ='Application by Block Classes 1'!AG229 -> 0 | E32: ='Application by Block Classes 2'!AG233 -> 0 | G32: =SUM(C32:E32) -> 0
A33: 4.6 | B33: Troubleshooting and Failure Analysis | C33: ='Application by Block Classes 1'!AG237 -> 0 | E33: ='Application by Block Classes 2'!AG242 -> 0 | G33: =SUM(C33:E33) -> 0
C34: ='Application by Block Classes 1'!AG245 -> 0 | E34: ='Application by Block Classes 2'!AG252 -> 0 | G34: =SUM(C34:E34) -> 0
A35: Section 5 | B35: Engine Systems | D35: =SUM(C36:C43) -> 0 | F35: =SUM(E36:E43) -> 0 | H35: =SUM(F35,D35) -> 0 | I35: =IFERROR(H35/$G$1,0) -> 0
A36: 5.1 | B36: Safety | C36: ='Application by Block Classes 1'!AG251 -> 0 | E36: ='Application by Block Classes 2'!AG258 -> 0 | G36: =SUM(C36:E36) -> 0
A37: 5.2 | B37: Theory and Operation | C37: ='Application by Block Classes 1'!AG261 -> 0 | E37: ='Application by Block Classes 2'!AG268 -> 0 | G37: =SUM(C37:E37) -> 0
A38: 5.3 | B38: Maintenance Practices | C38: ='Application by Block Classes 1'!AG273 -> 0 | E38: ='Application by Block Classes 2'!AG280 -> 0 | G38: =SUM(C38:E38) -> 0
A39: 5.4 | B39: Component Repair and Replacement | C39: ='Application by Block Classes 1'!AG281 -> 0 | E39: ='Application by Block Classes 2'!AG288 -> 0 | G39: =SUM(C39:E39) -> 0
A40: 5.5 | B40: Engine Subsystem Components | C40: ='Application by Block Classes 1'!AG288 -> 0 | E40: ='Application by Block Classes 2'!AG295 -> 0 | G40: =SUM(C40:E40) -> 0
A41: 5.6 | B41: Fuel and Governing Systems, Mechanical and Electronic | C41: ='Application by Block Classes 1'!AG297 -> 0 | E41: ='Application by Block Classes 2'!AG304 -> 0 | G41: =SUM(C41:E41) -> 0
A42: 5.7 | B42: Diagnostics | C42: ='Application by Block Classes 1'!AG305 -> 0 | E42: ='Application by Block Classes 2'!AG312 -> 0 | G42: =SUM(C42:E42) -> 0
C43: ='Application by Block Classes 1'!AG313 -> 0 | E43: ='Application by Block Classes 2'!AG320 -> 0 | G43: =SUM(C43:E43) -> 0
A44: Section 6 | B44: Air Conditioning and Heating Systems - | D44: =SUM(C45:C51) -> 0 | F44: =SUM(E45:E51) -> 0 | H44: =SUM(F44,D44) -> 0 | I44: =IFERROR(H44/$G$1,0) -> 0
A45: 6.1 | B45: Fundamental Knowledge | C45: ='Application by Block Classes 1'!AG323 -> 0 | E45: ='Application by Block Classes 2'!AG330 -> 0 | G45: =SUM(C45:E45) -> 0
A46: 6.2 | B46: AC System Operation | C46: ='Application by Block Classes 1'!AG330 -> 0 | E46: ='Application by Block Classes 2'!AG337 -> 0 | G46: =SUM(C46:E46) -> 0
A47: 6.3 | B47: Servicing AC systems | C47: ='Application by Block Classes 1'!AG340 -> 0 | E47: ='Application by Block Classes 2'!AG347 -> 0 | G47: =SUM(C47:E47) -> 0
A48: 6.4 | B48: Testing, Troubleshooting, and Diagnosing | C48: ='Application by Block Classes 1'!AG353 -> 0 | E48: ='Application by Block Classes 2'!AG361 -> 0 | G48: =SUM(C48:E48) -> 0
A49: 6.5 | B49: Heating System Operation | C49: ='Application by Block Classes 1'!AG361 -> 0 | E49: ='Application by Block Classes 2'!AG370 -> 0 | G49: =SUM(C49:E49) -> 0
A50: 6.6 | B50: Servicing Heating Systems | C50: ='Application by Block Classes 1'!AG370 -> 0 | E50: ='Application by Block Classes 2'!AG380 -> 0 | G50: =SUM(C50:E50) -> 0
C51: ='Application by Block Classes 1'!AG376 -> 0 | E51: ='Application by Block Classes 2'!AG386 -> 0 | G51: =SUM(C51:E51) -> 0

Sheet Application by Block Classes 1
A1: SCHOOL NAME: | C1: =IF(Coversheet!L2="","",Coversheet!L2) | P1: PROGRAM NAME: | S1: =IF(Coversheet!L8="","",Coversheet!L8) | AD1: DATE: | AE1: =IF(Coversheet!L1="","",Coversheet!L1)
A2: ADDRESS: | C2: =IF(Coversheet!L3="","",Coversheet!L3) | P2: PHONE/FAX: | S2: =IF(Coversheet!L9="","",Coversheet!L9)
A3: PERSON APPLYING AND TITLE: | C3: =IF(Coversheet!L4="","",Coversheet!L4) | P3: DEPT. CHAIR/HEAD: | S3: =IF(Coversheet!L10="","",Coversheet!L10)
A4: DEALER SPONSOR: | C4: =IF(Coversheet!L5="","",Coversheet!L5) | P4: CONTACT NAME: | S4: =IF(Coversheet!L11="","",Coversheet!L11)
A5: PHONE/FAX: | C5: =IF(Coversheet!L6="","",Coversheet!L6) | E5: EMAIL: | F5: =IF(Coversheet!L7="","",Coversheet!L7)
A6: AED Accreditation Program Analysis & Application
C7: PLEASE NOTE: 1. At the top of each column in the yellow cell fill the the course name or course number for each to be considered. 2. You are allowed to add columns if needed. 3. To make a note next to a row, insert a number in the "NO. FOR FOOT NOTE" column. and add to bottom of spreadsheet. | AI7: NO. FOR FOOT NOTE
B8: Course Areas | C8: DIESL117 AUTO MANUAL TRANSMISSIONS | E8: DIESL118 CLUTCH SERVICE | G8: DIESL119 AUTOMATIC TRANSMISSIONS | I8: DIESL120 DRIVELINE SERVICE | K8: vDIESL121 DIFFERENTIAL/FINAL DRIVE | M8: DIESL122 WHEEL ENDS | O8: DIESL123 SRVC MANUAL TRANSMISSIONS | AJ8: FROM SPREAD SHEET 2 | AK8: NEW TOTAL HRS | AL8: % TOTAL
C9: Theory | D9: Hands-on | E9: Theory | F9: Hands-on | G9: Theory | H9: Hands-on | I9: Theory | J9: Hands-on | K9: Theory | L9: Hands-on | M9: Theory | N9: Hands-on | O9: Theory | P9: Hands-on | Q9: Theory | R9: Hands-on | S9: Theory | T9: Hands-on | U9: Theory | V9: Hands-on | W9: Theory | X9: Hands-on | Y9: Theory | Z9: Hands-on | AA9: Theory | AB9: Hands-on | AC9: Theory | AD9: Hands-on
A10: Section 1 | B10: Safe Operation
A11: 1a | B11: Theory and Operation
A12: 1a.1 | B12: Identification and use of basic tools | C12: 0.25 | E12: 0.25 | F12: 0.25 | G12: 0.25 | H12: 0.25 | I12: 0.25 | J12: 0.25 | K12: 0.25 | L12: 0.25 | AG12: =SUM(C12:AD12) -> 2.25
A13: 1a.2 | B13: Use of lifting equipment | C13: 0.25 | E13: 0.25 | F13: 0.25 | G13: 0.25 | H13: 0.25 | AG13: =SUM(C13:AD13) -> 1.25
A14: 1a.3 | B14: Use of various cleaning equipment | C14: 0.25 | AG14: =SUM(C14:AD14) -> 0.25
A15: 1a.4 | B15: Use of fluid pressure testing equipment | AG15: =SUM(C15:AD15) -> 0
A16: 1a.5 | B16: Environment of a service facility
A17: 1a.6 | B17: Machine operation and identificaiton | C17: 0.25 | D17: 0.25 | AG17: =SUM(C17:AD17) -> 0.5
A18: 1a.7 | B18: Mandated Regulations | AG18: =SUM(C18:AD18) -> 0
A19: 1a.8 | B19: Shop and in-field practices | K19: 0.25 | L19: 0.25 | AG19: =SUM(C19:AD19) -> 0.5
A20: 1a.9 | B20: Battery electric vehicles | AG20: =SUM(C20:AD20) -> 0
A21: 1a | B21: Hazard prevention and identification | E21: 0.25 | F21: 0.25 | G21: 0.25 | H21: 0.25 | AG21: =SUM(C21:AD21) -> 1
AG22: =SUM(C22:AD22) -> 0
AG23: =SUM(C23:AD23) -> 0
AG24: =SUM(C24:AD24) -> 0
AG25: =SUM(C25:AD25) -> 0
B26: Total Hours Spent | C26: =SUM(C12:C25) -> 1 | D26: =SUM(D12:D25) -> 0.25 | E26: =SUM(E12:E25) -> 0.75 | F26: =SUM(F12:F25) -> 0.75 | G26: =SUM(G12:G25) -> 0.75 | H26: =SUM(H12:H25) -> 0.75 | I26: =SUM(I12:I25) -> 0.25 | J26: =SUM(J10:J25) -> 0.25 | K26: =SUM(K10:K25) -> 0.5 | L26: =SUM(L10:L25) -> 0.5 | M26: =SUM(M10:M25) -> 0 | N26: =SUM(N10:N25) -> 0 | O26: =SUM(O10:O25) -> 0 | P26: =SUM(P10:P25) -> 0 | Q26: =SUM(Q10:Q25) -> 0 | ... AD26: =SUM(AD10:AD25) -> 0 | AG26: =SUM(C26:AD26) -> 5.75
C27: Hands-On | D27: =D26+F26+H26+N26+P26+V26+X26+Z26+AB26+AD26 -> 1.75 | E27: Theory | F27: =C26+E26+G26+M26+O26+U26+W26+Y26+AA26+AC26 -> 2.5
A29: 1b | B29: Adminstrative
A30: 1b.1 | B30: comprehend basic academic functions | AG30: =SUM(C30:AD30) -> 0
A31: 1b.2 | B31: utilize industry software and electronic communication systems and reference resources | AG31: =SUM(C31:AD31) -> 0
A32: 1b.3 | B32: demonstrate an awareness of expected company goals and objectives | AG32: =SUM(C32:AD32) -> 0
A33: 1b.4 | B33: define basic business practices | AG33: =SUM(C33:AD33) -> 0
A34: 1b.5 | B34: explain department goals and procedures | AG34: =SUM(C34:AD34) -> 0
B35: Total Hours Spent | C35: =SUM(C30:C34) -> 0 | D35: =SUM(D30:D34) -> 0 | E35: =SUM(E30:E34) -> 0 | F35: =SUM(F30:F34) -> 0 | G35: =SUM(G30:G34) -> 0 | H35: =SUM(H30:H34) -> 0 | I35: =SUM(I30:I34) -> 0 | J35: =SUM(J30:J34) -> 0 | ... AD35: =SUM(AD30:AD34) -> 0 | AG35: =SUM(C35:AD35) -> 0 | AI35: =AG26+AG35 -> 5.75 | AJ35: ='Application by Block Classes 2'!AI35 -> 0 | AK35: =AI35+AJ35 -> 5.75 | AL35: =AK35/AK379 -> 0.050108932
C36: Hands-On | D36: =D35+F35+H35+N35+P35+V35+X35+Z35+AB35+AD35 -> 0 | E36: Theory | F36: =C35+E35+G35+M35+O35+U35+W35+Y35+AA35+AC35 -> 0 | AI36: =AI35/AI379 -> 0.16546763
A38: Section 2 | B38: Electronics/Electrical Systems
A39: 2.1 | B39: Fundamental Knowledge
B40: Atomic structure | AG40: =SUM(C40:AD40) -> 0
B41: Electron theory of electricity and magnetism | AG41: =SUM(C41:AD41) -> 0
B42: Capacitors and Batteries | AG42: =SUM(C42:AD42) -> 0
B43: Total Hours Spent | C43: =SUM(C40:C42) -> 0 | D43: =SUM(D40:D42) -> 0 | E43: =SUM(E40:E42) -> 0 | F43: =SUM(F40:F42) -> 0 | G43: =SUM(G40:G42) -> 0 | H43: =SUM(H40:H42) -> 0 | I43: =SUM(I40:I42) -> 0 | J43: =SUM(J40:J42) -> 0 | ... AD43: =SUM(AD40:AD42) -> 0 | AG43: =SUM(C43:AD43) -> 0
C44: Hands-On | D44: =D43+F43+H43+N43+P43+V43+X43+Z43+AB43+AD43 -> 0 | E44: Theory | F44: =C43+E43+G43+M43+O43+U43+W43+Y43+AA43+AC43 -> 0
A46: 2.2 | B46: Ohm's Law
B47: Ohm’s Law theory and Watts theory | AG47: =SUM(C47:AD47) -> 0
B48: applications to series, parallel and series/parallel DC Circuits | AG48: =SUM(C48:AD48) -> 0
B49: Total Hours Spent | C49: =SUM(C47:C48) -> 0 | D49: =SUM(D47:D48) -> 0 | E49: =SUM(E47:E48) -> 0 | F49: =SUM(F47:F48) -> 0 | G49: =SUM(G47:G48) -> 0 | H49: =SUM(H47:H48) -> 0 | I49: =SUM(I47:I48) -> 0 | J49: =SUM(J47:J48) -> 0 | ... AD49: =SUM(AD47:AD48) -> 0 | AG49: =SUM(C49:AD49) -> 0
C50: Hands-On | D50: =D49+F49+H49+N49+P49+V49+X49+Z49+AB49+AD49 -> 0 | E50: Theory | F50: =C49+E49+G49+M49+O49+U49+W49+Y49+AA49+AC49 -> 0
A52: 2.3 | B52: 12 and 24 Volt Cranking Systems
B53: Components | AG53: =SUM(C53:AD53) -> 0
B54: Operation | AG54: =SUM(C54:AD54) -> 0
B55: Troubleshooting | AG55: =SUM(C55:AD55) -> 0
B56: Test and replace if requried | AG56: =SUM(C56:AD56) -> 0
B57: Total Hours Spent | C57: =SUM(C53:C56) -> 0 | D57: =SUM(D53:D56) -> 0 | E57: =SUM(E53:E56) -> 0 | F57: =SUM(F53:F56) -> 0 | G57: =SUM(G53:G56) -> 0 | H57: =SUM(H53:H56) -> 0 | I57: =SUM(I53:I56) -> 0 | J57: =SUM(J53:J56) -> 0 | ... AD57: =SUM(AD53:AD56) -> 0 | AG57: =SUM(C57:AD57) -> 0
C58: Hands-On | D58: =D57+F57+H57+N57+P57+V57+X57+Z57+AB57+AD57 -> 0 | E58: Theory | F58: =C57+E57+G57+M57+O57+U57+W57+Y57+AA57+AC57 -> 0
A60: 2.4 | B60: 12 and 24 Volt Charging Systems
B61: Components | AG61: =SUM(C61:AD61) -> 0
B62: Operation | AG62: =SUM(C62:AD62) -> 0
B63: Troubleshooting | AG63: =SUM(C63:AD63) -> 0
B64: Test and replace if required | AG64: =SUM(C64:AD64) -> 0
B65: Total Hours Spent | C65: =SUM(C61:C64) -> 0 | D65: =SUM(D61:D64) -> 0 | E65: =SUM(E61:E64) -> 0 | F65: =SUM(F61:F64) -> 0 | G65: =SUM(G61:G64) -> 0 | H65: =SUM(H61:H64) -> 0 | I65: =SUM(I61:I64) -> 0 | J65: =SUM(J61:J64) -> 0 | ... AD65: =SUM(AD61:AD64) -> 0 | AG65: =SUM(C65:AD65) -> 0
C66: Hands-On | D66: =D65+F65+H65+N65+P65+V65+X65+Z65+AB65+AD65 -> 0 | E66: Theory | F66: =C65+E65+G65+M65+O65+U65+W65+Y65+AA65+AC65 -> 0
A68: 2.5 | B68: Lighting, Accessory and Control Systems
B69: Components | AG69: =SUM(C69:AD69) -> 0
B70: Operation | AG70: =SUM(C70:AD70) -> 0
B71: Troubleshooting | AG71: =SUM(C71:AD71) -> 0
B72: Test and replace if required | AG72: =SUM(C72:AD72) -> 0
B73: Total Hours Spent | C73: =SUM(C69:C72) -> 0 | D73: =SUM(D69:D72) -> 0 | E73: =SUM(E69:E72) -> 0 | F73: =SUM(F69:F72) -> 0 | G73: =SUM(G69:G72) -> 0 | H73: =SUM(H69:H72) -> 0 | I73: =SUM(I69:I72) -> 0 | J73: =SUM(J69:J72) -> 0 | ... AD73: =SUM(AD69:AD72) -> 0 | AG73: =SUM(C73:AD73) -> 0
C74: Hands-On | D74: =D73+F73+H73+N73+P73+V73+X73+Z73+AB73+AD73 -> 0 | E74: Theory | F74: =C73+E73+G73+M73+O73+U73+W73+Y73+AA73+AC73 -> 0
A76: 2.6 | B76: Electrical Schematics/Diagrams
B77: How to read schematics/diagrams | AG77: =SUM(C77:AD77) -> 0
B78: How to use schematics/diagrams | AG78: =SUM(C78:AD78) -> 0
B79: Total Hours Spent | C79: =SUM(C77:C78) -> 0 | D79: =SUM(D77:D78) -> 0 | E79: =SUM(E77:E78) -> 0 | F79: =SUM(F77:F78) -> 0 | G79: =SUM(G77:G78) -> 0 | H79: =SUM(H77:H78) -> 0 | I79: =SUM(I77:I78) -> 0 | J79: =SUM(J77:J78) -> 0 | ... AD79: =SUM(AD77:AD78) -> 0 | AG79: =SUM(C79:AD79) -> 0
C80: Hands-On | D80: =D79+F79+H79+N79+P79+V79+X79+Z79+AB79+AD79 -> 0 | E80: Theory | F80: =C79+E79+G79+M79+O79+U79+W79+Y79+AA79+AC79 -> 0
A82: 2.7 | B82: Data Communication Networks
B83: Understand communication standards and published error codes | AG83: =SUM(C83:AD83) -> 0
B84: Troubleshoot Network Health | AG84: =SUM(C84:AD84) -> 0
B85: Total Hours Spent | C85: =SUM(C83:C84) -> 0 | D85: =SUM(D83:D84) -> 0 | E85: =SUM(E83:E84) -> 0 | F85: =SUM(F83:F84) -> 0 | G85: =SUM(G83:G84) -> 0 | H85: =SUM(H83:H84) -> 0 | I85: =SUM(I83:I84) -> 0 | J85: =SUM(J83:J84) -> 0 | ... AD85: =SUM(AD83:AD84) -> 0 | AG85: =SUM(C85:AD85) -> 0
C86: Hands-On | D86: =D85+F85+H85+N85+P85+V85+X85+Z85+AB85+AD85 -> 0 | E86: Theory | F86: =C85+E85+G85+M85+O85+U85+W85+Y85+AA85+AC85 -> 0
A88: 2.8 | B88: Telematics and Emerging Technologies
B89: Recognize and understand how basic systems communicate through telematics | AG89: =SUM(C89:AD89) -> 0
B90: Total Hours Spent | D90: =SUM(D89) -> 0 | E90: =SUM(E89) -> 0 | F90: =SUM(F89) -> 0 | G90: =SUM(G89) -> 0 | H90: =SUM(H89) -> 0 | I90: =SUM(I89) -> 0 | J90: =SUM(J89) -> 0 | K90: =SUM(K89) -> 0 | ... AD90: =SUM(AD89) -> 0 | AG90: =SUM(C90:AD90) -> 0
C91: Hands-On | D91: =D89+F89+H89+J89+L89+N89+P89+R89+T89+V89+X89+Z89+AB89+AD89 -> 0 | E91: Theory | F91: =C89+E89+G89+I89+K89+M89+O89+Q89+S89+U89+W89+Y89+AA89+AC89 -> 0
A93: 2.9 | B93: Electric Drive and Hybrid System Familiarization
B95: Hybrid Systems: recognizehybrid and electric drive systems as they relate to safety concerns | AG95: =SUM(C95:AD95) -> 0
B96: Total Hours Spent | C96: =SUM(C95) -> 0 | D96: =SUM(D95) -> 0 | E96: =SUM(E95) -> 0 | F96: =SUM(F95) -> 0 | G96: =SUM(G95) -> 0 | H96: =SUM(H95) -> 0 | I96: =SUM(I95) -> 0 | J96: =SUM(J95) -> 0 | ... AD96: =SUM(AD95) -> 0 | AG96: =SUM(C96:AD96) -> 0
C97: Hands-On | D97: =D95+F95+H95+J95+L95+N95+P95+R95+T95+V95+X95+Z95+AB95+AD95 -> 0 | E97: Theory | F97: =C95+E95+G95+I95+K95+M95+O95+Q95+S95+U95+W95+Y95+AA95+AC95 -> 0
A99: 2.1 | B99: Diagnostics
B100: Failure analysis and diagnostics on a required on an engine driven simulator or machine | AG100: =SUM(C100:AD100) -> 0
B101: Mastering use of all test equipment | AG101: =SUM(C101:AD101) -> 0
B102: Use of technical manuals and troubleshooting flow charts | AG102: =SUM(C102:AD102) -> 0
B103: Use of schematic diagrams | AG103: =SUM(C103:AD103) -> 0
B104: Use of an interactive equipment diagnostic program | AG104: =SUM(C104:AD104) -> 0
B105: Demonstrate technical write-up competency | AG105: =SUM(C105:AD105) -> 0
B106: Total Hours Spent | C106: =SUM(C100:C105) -> 0 | D106: =SUM(D100:D105) -> 0 | E106: =SUM(E100:E105) -> 0 | F106: =SUM(F100:F105) -> 0 | G106: =SUM(G100:G105) -> 0 | H106: =SUM(H100:H105) -> 0 | I106: =SUM(I100:I105) -> 0 | J106: =SUM(J100:J105) -> 0 | ... AD106: =SUM(AD100:AD105) -> 0 | AG106: =SUM(C106:AD106) -> 0 | AI106: =AG43+AG49+AG57+AG65+AG73+AG79+AG85+AG106 -> 0 | AJ106: ='Application by Block Classes 2'!AI106 -> 0 | AK106: =AI106+AJ106 -> 0 | AL106: =AK106/AK379 -> 0
C107: Hands-On | D107: =D106+F106+H106+N106+P106+V106+X106+Z106+AB106+AD106 -> 0 | E107: Theory | F107: =C106+E106+G106+M106+O106+U106+W106+Y106+AA106+AC106 -> 0 | AI107: =AI106/AI379 -> 0
A109: Section 3 | B109: Hydraulics/Hydrostatics
A110: 3.1 | B110: Theory and Operation of Hydraulics and Hydrostatics
B111: Learn basic hydraulic and hydrostatic principles | AG111: =SUM(C111:AD111) -> 0
B112: Understand the difference between open and closed center systems | AG112: =SUM(C112:AD112) -> 0
B113: Applications of hydraulic systems | AG113: =SUM(C113:AD113) -> 0
...

Sheet Application by Block Classes 2
A1: SCHOOL NAME: | C1: =IF(Coversheet!L2="","",Coversheet!L2) | P1: PROGRAM NAME: | S1: =IF(Coversheet!L8="","",Coversheet!L8) | AD1: DATE: | AE1: =IF(Coversheet!L1="","",Coversheet!L1)
A2: ADDRESS: | C2: =IF(Coversheet!L3="","",Coversheet!L3) | P2: PHONE/FAX: | S2: =IF(Coversheet!L9="","",Coversheet!L9)
A3: PERSON APPLYING AND TITLE: | C3: =IF(Coversheet!L4="","",Coversheet!L4) | P3: DEPT. CHAIR/HEAD: | S3: =IF(Coversheet!L10="","",Coversheet!L10)
A4: DEALER SPONSOR: | C4: =IF(Coversheet!L5="","",Coversheet!L5) | P4: CONTACT NAME: | S4: =IF(Coversheet!L11="","",Coversheet!L11)
A5: PHONE/FAX: | C5: =IF(Coversheet!L6="","",Coversheet!L6) | E5: EMAIL: | F5: =IF(Coversheet!L7="","",Coversheet!L7)
A6: AED Accreditation Program Analysis & Application
C7: PLEASE NOTE: 1. At the top of each column in the yellow cell fill the the course name or course number for each to be considered. 2. You are allowed to add columns if needed. 3. To make a note next to a row, insert a number in the "NO. FOR FOOT NOTE" column. and add to bottom of spreadsheet. | AI7: NO. FOR FOOT NOTE
B8: Course Areas
C9: Theory | D9: Hands-on | E9: Theory | F9: Hands-on | G9: Theory | H9: Hands-on | I9: Theory | J9: Hands-on | K9: Theory | L9: Hands-on | M9: Theory | N9: Hands-on | O9: Theory | P9: Hands-on | Q9: Theory | R9: Hands-on | S9: Theory | T9: Hands-on | U9: Theory | V9: Hands-on | W9: Theory | X9: Hands-on | Y9: Theory | Z9: Hands-on | AA9: Theory | AB9: Hands-on | AC9: Theory | AD9: Hands-on
A10: Section 1 | B10: Safe Operation
A11: 1a | B11: Theory and Operation
A12: 1a.1 | B12: Identification and use of basic tools | AG12: =SUM(C12:AD12) -> 0
A13: 1a.2 | B13: Use of lifting equipment | AG13: =SUM(C13:AD13) -> 0
A14: 1a.3 | B14: Use of various cleaning equipment | AG14: =SUM(C14:AD14) -> 0
A15: 1a.4 | B15: Use of fluid pressure testing equipment | AG15: =SUM(C15:AD15) -> 0
A16: 1a.5 | B16: Environment of a service facility | AG16: =SUM(C16:AD16) -> 0
A17: 1a.6 | B17: Machine operation and identificaiton | AG17: =SUM(C17:AD17) -> 0
A18: 1a.7 | B18: Mandated Regulations | AG18: =SUM(C18:AD18) -> 0
A19: 1a.8 | B19: Shop and in-field practices | AG19: =SUM(C19:AD19) -> 0
A20: 1a.9 | B20: Battery electric vehicles | AG20: =SUM(C20:AD20) -> 0
A21: 1a | B21: Hazard prevention and identification | AG21: =SUM(C21:AD21) -> 0
AG22: =SUM(C22:AD22) -> 0
AG23: =SUM(C23:AD23) -> 0
AG24: =SUM(C24:AD24) -> 0
AG25: =SUM(C25:AD25) -> 0
B26: Total Hours Spent | C26: =SUM(C12:C25) -> 0 | D26: =SUM(D12:D25) -> 0 | E26: =SUM(E12:E25) -> 0 | F26: =SUM(F12:F25) -> 0 | G26: =SUM(G12:G25) -> 0 | H26: =SUM(H12:H25) -> 0 | I26: =SUM(I12:I25) -> 0 | J26: =SUM(J10:J25) -> 0 | K26: =SUM(K10:K25) -> 0 | L26: =SUM(L10:L25) -> 0 | M26: =SUM(M10:M25) -> 0 | N26: =SUM(N10:N25) -> 0 | O26: =SUM(O10:O25) -> 0 | P26: =SUM(P10:P25) -> 0 | Q26: =SUM(Q10:Q25) -> 0 | ... AD26: =SUM(AD10:AD25) -> 0 | AG26: =SUM(C26:AD26) -> 0
C27: Hands-On | D27: =D26+F26+H26+N26+P26+V26+X26+Z26+AB26+AD26 -> 0 | E27: Theory | F27: =C26+E26+G26+M26+O26+U26+W26+Y26+AA26+AC26 -> 0
A29: 1b | B29: Adminstrative
B30: comprehend basic academic functions | AG30: =SUM(C30:AD30) -> 0
B31: utilize industry software and electronic communication systems and reference resources | AG31: =SUM(C31:AD31) -> 0
B32: demonstrate an awareness of expected company goals and objectives | AG32: =SUM(C32:AD32) -> 0
B33: define basic business practices | AG33: =SUM(C33:AD33) -> 0
B34: explain department goals and procedures | AG34: =SUM(C34:AD34) -> 0
B35: Total Hours Spent | C35: =SUM(C30:C34) -> 0 | D35: =SUM(D30:D34) -> 0 | E35: =SUM(E30:E34) -> 0 | F35: =SUM(F30:F34) -> 0 | G35: =SUM(G30:G34) -> 0 | H35: =SUM(H30:H34) -> 0 | I35: =SUM(I30:I34) -> 0 | J35: =SUM(J30:J34) -> 0 | ... AD35: =SUM(AD30:AD34) -> 0 | AG35: =SUM(C35:AD35) -> 0 | AI35: =AG35+AG26 -> 0
C36: Hands-On | D36: =D35+F35+H35+N35+P35+V35+X35+Z35+AB35+AD35 -> 0 | E36: Theory | F36: =C35+E35+G35+M35+O35+U35+W35+Y35+AA35+AC35 -> 0 | AI36: =(AG35+AG26)/C395 -> #DIV/0!
A38: Section 2 | B38: Electronics/Electrical Systems - Pgs. 27- 32
A39: 2.1 | B39: Fundamental Knowledge
B40: Atomic structure | AG40: =SUM(C40:AD40) -> 0
B41: Electron theory of electricity and magnetism | AG41: =SUM(C41:AD41) -> 0
B42: Capacitors and Batteries | AG42: =SUM(C42:AD42) -> 0
B43: Total Hours Spent | C43: =SUM(C40:C42) -> 0 | D43: =SUM(D40:D42) -> 0 | E43: =SUM(E40:E42) -> 0 | F43: =SUM(F40:F42) -> 0 | G43: =SUM(G40:G42) -> 0 | H43: =SUM(H40:H42) -> 0 | I43: =SUM(I40:I42) -> 0 | J43: =SUM(J40:J42) -> 0 | ... AD43: =SUM(AD40:AD42) -> 0 | AG43: =SUM(C43:AD43) -> 0
C44: Hands-On | D44: =D43+F43+H43+N43+P43+V43+X43+Z43+AB43+AD43 -> 0 | E44: Theory | F44: =C43+E43+G43+M43+O43+U43+W43+Y43+AA43+AC43 -> 0
A46: 2.2 | B46: Ohm's Law
B47: Ohm’s Law theory and Watts theory | AG47: =SUM(C47:AD47) -> 0
B48: applications to series, parallel and series/parallel DC Circuits | AG48: =SUM(C48:AD48) -> 0
B49: Total Hours Spent | C49: =SUM(C47:C48) -> 0 | D49: =SUM(D47:D48) -> 0 | E49: =SUM(E47:E48) -> 0 | F49: =SUM(F47:F48) -> 0 | G49: =SUM(G47:G48) -> 0 | H49: =SUM(H47:H48) -> 0 | I49: =SUM(I47:I48) -> 0 | J49: =SUM(J47:J48) -> 0 | ... AD49: =SUM(AD47:AD48) -> 0 | AG49: =SUM(C49:AD49) -> 0
C50: Hands-On | D50: =D49+F49+H49+N49+P49+V49+X49+Z49+AB49+AD49 -> 0 | E50: Theory | F50: =C49+E49+G49+M49+O49+U49+W49+Y49+AA49+AC49 -> 0
A52: 2.3 | B52: 12 and 24 Volt Cranking Systems
B53: Components | AG53: =SUM(C53:AD53) -> 0
B54: Operation | AG54: =SUM(C54:AD54) -> 0
B55: Troubleshooting | AG55: =SUM(C55:AD55) -> 0
B56: Test and replace if requried | AG56: =SUM(C56:AD56) -> 0
B57: Total Hours Spent | C57: =SUM(C53:C56) -> 0 | D57: =SUM(D53:D56) -> 0 | E57: =SUM(E53:E56) -> 0 | F57: =SUM(F53:F56) -> 0 | G57: =SUM(G53:G56) -> 0 | H57: =SUM(H53:H56) -> 0 | I57: =SUM(I53:I56) -> 0 | J57: =SUM(J53:J56) -> 0 | ... AD57: =SUM(AD53:AD56) -> 0 | AG57: =SUM(C57:AD57) -> 0
C58: Hands-On | D58: =D57+F57+H57+N57+P57+V57+X57+Z57+AB57+AD57 -> 0 | E58: Theory | F58: =C57+E57+G57+M57+O57+U57+W57+Y57+AA57+AC57 -> 0
A60: 2.4 | B60: 12 and 24 Volt Charging Systems
B61: Components | AG61: =SUM(C61:AD61) -> 0
B62: Operation | AG62: =SUM(C62:AD62) -> 0
B63: Troubleshooting | AG63: =SUM(C63:AD63) -> 0
B64: Test and replace if requried | AG64: =SUM(C64:AD64) -> 0
B65: Total Hours Spent | C65: =SUM(C61:C64) -> 0 | D65: =SUM(D61:D64) -> 0 | E65: =SUM(E61:E64) -> 0 | F65: =SUM(F61:F64) -> 0 | G65: =SUM(G61:G64) -> 0 | H65: =SUM(H61:H64) -> 0 | I65: =SUM(I61:I64) -> 0 | J65: =SUM(J61:J64) -> 0 | ... AD65: =SUM(AD61:AD64) -> 0 | AG65: =SUM(C65:AD65) -> 0
C66: Hands-On | D66: =D65+F65+H65+N65+P65+V65+X65+Z65+AB65+AD65 -> 0 | E66: Theory | F66: =C65+E65+G65+M65+O65+U65+W65+Y65+AA65+AC65 -> 0
A68: 2.5 | B68: Lighting, Accessory and Control Systems
B69: Components | AG69: =SUM(C69:AD69) -> 0
B70: Operation | AG70: =SUM(C70:AD70) -> 0
B71: Troubleshooting | AG71: =SUM(C71:AD71) -> 0
B72: Repair | AG72: =SUM(C72:AD72) -> 0
B73: Total Hours Spent | C73: =SUM(C69:C72) -> 0 | D73: =SUM(D69:D72) -> 0 | E73: =SUM(E69:E72) -> 0 | F73: =SUM(F69:F72) -> 0 | G73: =SUM(G69:G72) -> 0 | H73: =SUM(H69:H72) -> 0 | I73: =SUM(I69:I72) -> 0 | J73: =SUM(J69:J72) -> 0 | ... AD73: =SUM(AD69:AD72) -> 0 | AG73: =SUM(C73:AD73) -> 0
C74: Hands-On | D74: =D73+F73+H73+N73+P73+V73+X73+Z73+AB73+AD73 -> 0 | E74: Theory | F74: =C73+E73+G73+M73+O73+U73+W73+Y73+AA73+AC73 -> 0
A76: 2.6 | B76: Electrical Schematics/Diagrams
B77: How to read schematics/diagrams | AG77: =SUM(C77:AD77) -> 0
B78: How to use schematics/diagrams | AG78: =SUM(C78:AD78) -> 0
B79: Total Hours Spent | C79: =SUM(C77:C78) -> 0 | D79: =SUM(D77:D78) -> 0 | E79: =SUM(E77:E78) -> 0 | F79: =SUM(F77:F78) -> 0 | G79: =SUM(G77:G78) -> 0 | H79: =SUM(H77:H78) -> 0 | I79: =SUM(I77:I78) -> 0 | J79: =SUM(J77:J78) -> 0 | ... AD79: =SUM(AD77:AD78) -> 0 | AG79: =SUM(C79:AD79) -> 0
C80: Hands-On | D80: =D79+F79+H79+N79+P79+V79+X79+Z79+AB79+AD79 -> 0 | E80: Theory | F80: =C79+E79+G79+M79+O79+U79+W79+Y79+AA79+AC79 -> 0
A82: 2.7 | B82: Data Communication Networks
B83: Understand communication standards and published error codes | AG83: =SUM(C83:AD83) -> 0
B84: Troubleshoot Network Health | AG84: =SUM(C84:AD84) -> 0
B85: Total Hours Spent | C85: =SUM(C83:C84) -> 0 | D85: =SUM(D83:D84) -> 0 | E85: =SUM(E83:E84) -> 0 | F85: =SUM(F83:F84) -> 0 | G85: =SUM(G83:G84) -> 0 | H85: =SUM(H83:H84) -> 0 | I85: =SUM(I83:I84) -> 0 | J85: =SUM(J83:J84) -> 0 | ... AD85: =SUM(AD83:AD84) -> 0 | AG85: =SUM(C85:AD85) -> 0
C86: Hands-On | D86: =D85+F85+H85+N85+P85+V85+X85+Z85+AB85+AD85 -> 0 | E86: Theory | F86: =C85+E85+G85+M85+O85+U85+W85+Y85+AA85+AC85 -> 0
A88: 2.8 | B88: Telematics and Emerging Technologies
B89: Recognize and understand how basic systems communicate through telematics | AG89: =SUM(C89:AD89) -> 0
B90: Total Hours Spent | C90: =SUM(C89) -> 0 | D90: =SUM(D89) -> 0 | E90: =SUM(E89) -> 0 | F90: =SUM(F89) -> 0 | G90: =SUM(G89) -> 0 | H90: =SUM(H89) -> 0 | I90: =SUM(I89) -> 0 | J90: =SUM(J89) -> 0 | ... AD90: =SUM(AD89) -> 0 | AG90: =SUM(C90:AD90) -> 0
C91: Hands-On | D91: =D89+F89+H89+J89+L89+N89+P89+R89+T89+V89+X89+Z89+AB89+AD89 -> 0 | E91: Theory | F91: =C89+E89+G89+I89+K89+M89+O89+Q89+S89+U89+W89+Y89+AA89+AC89 -> 0
A93: 2.9 | B93: Electric Drive and Hybrid System Familiarization
B95: Hybrid Systems: recognizehybrid and electric drive systems as they relate to safety concerns | AG95: =SUM(C95:AD95) -> 0
B96: Total Hours Spent | C96: =SUM(C95) -> 0 | D96: =SUM(D95) -> 0 | E96: =SUM(E95) -> 0 | F96: =SUM(F95) -> 0 | G96: =SUM(G95) -> 0 | H96: =SUM(H95) -> 0 | I96: =SUM(I95) -> 0 | J96: =SUM(J95) -> 0 | ... AD96: =SUM(AD95) -> 0 | AG96: =SUM(C96:AD96) -> 0
C97: Hands-On | D97: =D95+F95+H95+J95+L95+N95+P95+R95+T95+V95+X95+Z95+AB95+AD95 -> 0 | E97: Theory | F97: =C95+E95+G95+I95+K95+M95+O95+Q95+S95+U95+W95+Y95+AA95+AC95 -> 0
A99: 2.1 | B99: Diagnostics
B100: Failure analysis and diagnostics on a required on an engine driven simulator or machine | AG100: =SUM(C100:AD100) -> 0
B101: Mastering use of all test equipment | AG101: =SUM(C101:AD101) -> 0
B102: Use of technical manuals and troubleshooting flow charts | AG102: =SUM(C102:AD102) -> 0
B103: Use of schematic diagrams | AG103: =SUM(C103:AD103) -> 0
B104: Use of an interactive equipment diagnostic program | AG104: =SUM(C104:AD104) -> 0
B105: Demonstrate technical write-up competency | AG105: =SUM(C105:AD105) -> 0
B106: Total Hours Spent | C106: =SUM(C100:C105) -> 0 | D106: =SUM(D100:D105) -> 0 | E106: =SUM(E100:E105) -> 0 | F106: =SUM(F100:F105) -> 0 | G106: =SUM(G100:G105) -> 0 | H106: =SUM(H100:H105) -> 0 | I106: =SUM(I100:I105) -> 0 | J106: =SUM(J100:J105) -> 0 | ... AD106: =SUM(AD100:AD105) -> 0 | AG106: =SUM(C106:AD106) -> 0 | AI106: =AG43+AG49+AG57+AG65+AG73+AG79+AG85+AG106 -> 0 | AJ106: ='Application by Block Classes 2'!AI106 -> 0 | AK106: =AI106+AJ106 -> 0 | AL106: =AK106/AK391 -> #DIV/0!
C107: Hands-On | D107: =D106+F106+H106+N106+P106+V106+X106+Z106+AB106+AD106 -> 0 | E107: Theory | F107: =C106+E106+G106+M106+O106+U106+W106+Y106+AA106+AC106 -> 0 | AI107: =AI106/AI391 -> #DIV/0!
A109: Section 3 | B109: Hydraulics/Hydrostatics
A110: 3.1 | B110: Theory and Operation of Hydraulics and Hydrostatics
B111: Learn basic hydraulic and hydrostatic principles | AG111: =SUM(C111:AD111) -> 0
B112: Understand the difference between open and closed center systems | AG112: =SUM(C112:AD112) -> 0
B113: Applications of hydraulic systems | AG113: =SUM(C113:AD113) -> 0
...
