Workbook

Sheet Coversheet
A1: =K2&" "&L2 -> SCHOOL NAME: | D1: Total Program Hours | G1: =SUM(H6:H51) -> 34.75 | I1: =IFERROR(SUM(I6:I51),0) -> 1 | K1: DATE: | U1: 1111
A2: =K3&" "&L3 -> ADDRESS: | K2: SCHOOL NAME:
A3: =K4&" "&L4 -> PERSON APPLYING AND TITLE: | G3: Theory | I3: ='Application by Block Classes 1'!G384 -> 17.75 | K3: ADDRESS:
A4: =K5&" "&L5 -> DEALER SPONSOR: | G4: HandsOn | I4: ='Application by Block Classes 1'!G385 -> 17 | K4: PERSON APPLYING AND TITLE:
C5: Sheet 1 | E5: Sheet 2 | G5: Total | K5: DEALER SPONSOR:
A6: Section 1 | B6: Safe Operation | D6: =SUM(C7:C8) -> 5.75 | F6: =SUM(E7:E8) -> 0 | H6: =SUM(F6,D6) -> 5.75 | I6: =IFERROR(H6/$G$1,0) -> 0.16546763 | K6: PHONE/FAX:
A7: 1a | B7: Theory and Operation | C7: ='Application by Block Classes 1'!AG26 -> 5.75 | E7: ='Application by Block Classes 2'!AG26 -> 0 | G7: =SUM(C7:E7) -> 5.75 | K7: EMAIL:
A8: 1b | B8: Adminstrative | C8: ='Application by Block Classes 1'!AG35 -> 0 | E8: ='Application by Block Classes 2'!AG35 -> 0 | G8: =SUM(C8:E8) -> 0 | K8: PROGRAM NAME:
A9: Section 2 | B9: Electronics/Electrical Systems | D9: =SUM(C10:C19) -> 0 | F9: =SUM(E10:E19) -> 0 | H9: =SUM(F9,D9) -> 0 | I9: =IFERROR(H9/$G$1,0) -> 0 | K9: PHONE/FAX:
A10: 2.1 | B10: Fundamental Knowledge | C10: ='Application by Block Classes 1'!AG43 -> 0 | E10: ='Application by Block Classes 2'!AG43 -> 0 | G10: =SUM(C10:E10) -> 0 | K10: DEPT. CHAIR/HEAD:
A11: 2.2 | B11: Ohm's Law | C11: ='Application by Block Classes 1'!AG49 -> 0 | E11: ='Application by Block Classes 2'!AG49 -> 0 | G11: =SUM(C11:E11) -> 0 | K11: CONTACT NAME:
A12: 2.3 | B12: 12 and 24 Volt Cranking Systems | C12: ='Application by Block Classes 1'!AG57 -> 0 | E12: ='Application by Block Classes 2'!AG57 -> 0 | G12: =SUM(C12:E12) -> 0
A13: 2.4 | B13: 12 and 24 Volt Charging Systems | C13: ='Application by Block Classes 1'!AG65 -> 0 | E13: ='Application by Block Classes 2'!AG65 -> 0 | G13: =SUM(C13:E13) -> 0
A14: 2.5 | B14: Lighting, Accessory and Control Systems | C14: ='Application by Block Classes 1'!AG73 -> 0 | E14: ='Application by Block Classes 2'!AG73 -> 0 | G14: =SUM(C14:E14) -> 0
A15: 2.6 | B15: Electrical Schematics/Diagrams | C15: ='Application by Block Classes 1'!AG79 -> 0 | E15: ='Application by Block Classes 2'!AG79 -> 0 | G15: =SUM(C15:E15) -> 0
A16: 2.7 | B16: Data Communications Networks | C16: ='Application by Block Classes 1'!AG85 -> 0 | E16: ='Application by Block Classes 2'!AG85 -> 0 | G16: =SUM(C16:E16) -> 0
A17: 2.8 | B17: Telematics and Emerging Technologies | C17: ='Application by Block Classes 1'!AG86 -> 0 | E17: ='Application by Block Classes 2'!AG90 -> 0 | G17: =SUM(C17:E17) -> 0
A18: 2.9 | B18: Electric Drive and Hybrid System Familiarization | C18: ='Application by Block Classes 1'!AG87 -> 0 | E18: ='Application by Block Classes 2'!AG95 -> 0 | G18: =SUM(C18:E18) -> 0
A19: 2.1 | B19: Diagnostics | C19: ='Application by Block Classes 1'!AG106 -> 0 | E19: ='Application by Block Classes 2'!AG106 -> 0 | G19: =SUM(C19:E19) -> 0
A20: Section 3 | B20: Hydraulics/Hydrostatics Systems | D20: =SUM(C21:C26) -> 0 | F20: =SUM(E21:E26) -> 0 | H20: =SUM(F20,D20) -> 0 | I20: =IFERROR(H20/$G$1,0) -> 0
A21: 3.1 | B21: Theory and Operation of Hydraulics and Hydrostatics | C21: ='Application by Block Classes 1'!AG129 -> 0 | E21: ='Application by Block Classes 2'!AG129 -> 0 | G21: =SUM(C21:E21) -> 0
A22: 3.2 | B22: Fluids, Transfer Components and Filtering | C22: ='Application by Block Classes 1'!AG136 -> 0 | E22: ='Application by Block Classes 2'!AG136 -> 0 | G22: =SUM(C22:E22) -> 0
A23: 3.3 | B23: Maintenance Procedures | C23: ='Application by Block Classes 1'!AG147 -> 0 | E23: ='Application by Block Classes 2'!AG147 -> 0 | G23: =SUM(C23:E23) -> 0
A24: 3.4 | B24: Component Repair and Replacement | C24: ='Application by Block Classes 1'!AG157 -> 0 | E24: ='Application by Block Classes 2'!AG157 -> 0 | G24: =SUM(C24:E24) -> 0
A25: 3.5 | B25: Hydraulic Schematics | C25: ='Application by Block Classes 1'!AG164 -> 0 | E25: ='Application by Block Classes 2'!AG164 -> 0 | G25: =SUM(C25:E25) -> 0
A26: 3.6 | B26: Diagnostics:Systems and Component Troubleshooting | C26: ='Application by Block Classes 1'!AG174 -> 0 | E26: ='Application by Block Classes 2'!AG174 -> 0 | G26: =SUM(C26:E26) -> 0
A27: Section 4 | B27: Power Train Systems | D27: =SUM(C28:C34) -> 29 | F27: =SUM(E28:E34) -> 0 | H27: =SUM(F27,D27) -> 29 | I27: =IFERROR(H27/$G$1,0) -> 0.83453237
A28: 4.1 | B28: Theory and Operation | C28: ='Application by Block Classes 1'!AG198 -> 29 | E28: ='Application by Block Classes 2'!AG198 -> 0 | G28: =SUM(C28:E28) -> 29
A29: 4.2 | B29: Differential, Final Drive, Undercarriage and Driveshaft Function | C29: ='Application by Block Classes 1'!AG207 -> 0 | E29: ='Application by Block Classes 2'!AG208 -> 0 | G29: =SUM(C29:E29) -> 0
A30: 4.3 | B30: Theory of Hydraulic and Pneumatic Braking Systems | C30: ='Application by Block Classes 1'!AG216 -> 0 | E30: ='Application by Block Classes 2'!AG218 -> 0 | G30: =SUM(C30:E30) -> 0
A31: 4.4 | B31: Understanding Maintenance Practices in Powertrains | C31: ='Application by Block Classes 1'!AG223 -> 0 | E31: ='Application by Block Classes 2'!AG226 -> 0 | G31: =SUM(C31:E31) -> 0
A32: 4.5 | B32: Power Train Schematics and flow diagrams | C32: ='Application by Block Classes 1'!AG229 -> 0 | E32: ='Application by Block Classes 2'!AG233 -> 0 | G32: =SUM(C32:E32) -> 0
A33: 4.6 | B33: Troubleshooting and Failure Analysis | C33: ='Application by Block Classes 1'!AG237 -> 0 | E33: ='Application by Block Classes 2'!AG242 -> 0 | G33: =SUM(C33:E33) -> 0
C34: ='Application by Block Classes 1'!AG245 -> 0 | E34: ='Application by Block Classes 2'!AG252 -> 0 | G34: =SUM(C34:E34) -> 0
A35: Section 5 | B35: Engine Systems | D35: =SUM(C36:C43) -> 0 | F35: =SUM(E36:E43) -> 0 | H35: =SUM(F35,D35) -> 0 | I35: =IFERROR(H35/$G$1,0) -> 0
A36: 5.1 | B36: Safety | C36: ='Application by Block Classes 1'!AG251 -> 0 | E36: ='Application by Block Classes 2'!AG258 -> 0 | G36: =SUM(C36:E36) -> 0
A37: 5.2 | B37: Theory and Operation | C37: ='Application by Block Classes 1'!AG261 -> 0 | E37: ='Application by Block Classes 2'!AG268 -> 0 | G37: =SUM(C37:E37) -> 0
A38: 5.3 | B38: Maintenance Practices | C38: ='Application by Block Classes 1'!AG273 -> 0 | E38: ='Application by Block Classes 2'!AG280 -> 0 | G38: =SUM(C38:E38) -> 0
A39: 5.4 | B39: Component Repair and Replacement | C39: ='Application by Block Classes 1'!AG281 -> 0 | E39: ='Application by Block Classes 2'!AG288 -> 0 | G39: =SUM(C39:E39) -> 0
A40: 5.5 | B40: Engine Subsystem Components | C40: ='Application by Block Classes 1'!AG288 -> 0 | E40: ='Application by Block Classes 2'!AG295 -> 0 | G40: =SUM(C40:E40) -> 0
...

Sheet Application by Block Classes 1
A1: SCHOOL NAME: | C1: =IF(Coversheet!L2="","",Coversheet!L2) | P1: PROGRAM NAME: | S1: =IF(Coversheet!L8="","",Coversheet!L8) | AD1: DATE: | AE1: =IF(Coversheet!L1="","",Coversheet!L1)
A2: ADDRESS: | C2: =IF(Coversheet!L3="","",Coversheet!L3) | P2: PHONE/FAX: | S2: =IF(Coversheet!L9="","",Coversheet!L9)
A3: PERSON APPLYING AND TITLE: | C3: =IF(Coversheet!L4="","",Coversheet!L4) | P3: DEPT. CHAIR/HEAD: | S3: =IF(Coversheet!L10="","",Coversheet!L10)
A4: DEALER SPONSOR: | C4: =IF(Coversheet!L5="","",Coversheet!L5) | P4: CONTACT NAME: | S4: =IF(Coversheet!L11="","",Coversheet!L11)
A5: PHONE/FAX: | C5: =IF(Coversheet!L6="","",Coversheet!L6) | E5: EMAIL: | F5: =IF(Coversheet!L7="","",Coversheet!L7)
A6: AED Accreditation Program Analysis & Application
C7: PLEASE NOTE: 1. At the top of each column in the yellow cell fill the the course name or course number for each to be considered. 2. You are allowed to add columns if needed. 3. To make a note next to a row, insert a number in the "NO. FOR FOOT NOTE" column. and add to bottom of spreadsheet. | AI7: NO. FOR FOOT NOTE
B8: Course Areas | C8: DIESL117 AUTO MANUAL TRANSMISSIONS | E8: DIESL118 CLUTCH SERVICE | G8: DIESL119 AUTOMATIC TRANSMISSIONS | I8: DIESL120 DRIVELINE SERVICE | K8: vDIESL121 DIFFERENTIAL/FINAL DRIVE | M8: DIESL122 WHEEL ENDS | O8: DIESL123 SRVC MANUAL TRANSMISSIONS | AJ8: FROM SPREAD SHEET 2 | AK8: NEW TOTAL HRS | AL8: % TOTAL
C9: Theory | D9: Hands-on | E9: Theory | F9: Hands-on | G9: Theory | H9: Hands-on | I9: Theory | J9: Hands-on | K9: Theory | L9: Hands-on | M9: Theory | N9: Hands-on | O9: Theory | P9: Hands-on | Q9: Theory | R9: Hands-on | S9: Theory | T9: Hands-on | U9: Theory | V9: Hands-on | W9: Theory | X9: Hands-on | Y9: Theory | Z9: Hands-on | AA9: Theory | AB9: Hands-on | AC9: Theory | AD9: Hands-on
A10: Section 1 | B10: Safe Operation
A11: 1a | B11: Theory and Operation
A12: 1a.1 | B12: Identification and use of basic tools | C12: 0.25 | E12: 0.25 | F12: 0.25 | G12: 0.25 | H12: 0.25 | I12: 0.25 | J12: 0.25 | K12: 0.25 | L12: 0.25 | AG12: =SUM(C12:AD12) -> 2.25
A13: 1a.2 | B13: Use of lifting equipment | C13: 0.25 | E13: 0.25 | F13: 0.25 | G13: 0.25 | H13: 0.25 | AG13: =SUM(C13:AD13) -> 1.25
A14: 1a.3 | B14: Use of various cleaning equipment | C14: 0.25 | AG14: =SUM(C14:AD14) -> 0.25
A15: 1a.4 | B15: Use of fluid pressure testing equipment | AG15: =SUM(C15:AD15) -> 0
A16: 1a.5 | B16: Environment of a service facility
A17: 1a.6 | B17: Machine operation and identificaiton | C17: 0.25 | D17: 0.25 | AG17: =SUM(C17:AD17) -> 0.5
A18: 1a.7 | B18: Mandated Regulations | AG18: =SUM(C18:AD18) -> 0
A19: 1a.8 | B19: Shop and in-field practices | K19: 0.25 | L19: 0.25 | AG19: =SUM(C19:AD19) -> 0.5
A20: 1a.9 | B20: Battery electric vehicles | AG20: =SUM(C20:AD20) -> 0
A21: 1a | B21: Hazard prevention and identification | E21: 0.25 | F21: 0.25 | G21: 0.25 | H21: 0.25 | AG21: =SUM(C21:AD21) -> 1
AG22: =SUM(C22:AD22) -> 0
AG23: =SUM(C23:AD23) -> 0
AG24: =SUM(C24:AD24) -> 0
AG25: =SUM(C25:AD25) -> 0
B26: Total Hours Spent | C26: =SUM(C12:C25) -> 1 | D26: =SUM(D12:D25) -> 0.25 | E26: =SUM(E12:E25) -> 0.75 | F26: =SUM(F12:F25) -> 0.75 | G26: =SUM(G12:G25) -> 0.75 | H26: =SUM(H12:H25) -> 0.75 | I26: =SUM(I12:I25) -> 0.25 | J26: =SUM(J10:J25) -> 0.25 | K26: =SUM(K10:K25) -> 0.5 | L26: =SUM(L10:L25) -> 0.5 | M26: =SUM(M10:M25) -> 0 | N26: =SUM(N10:N25) -> 0 | O26: =SUM(O10:O25) -> 0 | P26: =SUM(P10:P25) -> 0 | Q26: =SUM(Q10:Q25) -> 0 | ... AD26: =SUM(AD10:AD25) -> 0 | AG26: =SUM(C26:AD26) -> 5.75
C27: Hands-On | D27: =D26+F26+H26+N26+P26+V26+X26+Z26+AB26+AD26 -> 1.75 | E27: Theory | F27: =C26+E26+G26+M26+O26+U26+W26+Y26+AA26+AC26 -> 2.5
A29: 1b | B29: Adminstrative
A30: 1b.1 | B30: comprehend basic academic functions | AG30: =SUM(C30:AD30) -> 0
A31: 1b.2 | B31: utilize industry software and electronic communication systems and reference resources | AG31: =SUM(C31:AD31) -> 0
A32: 1b.3 | B32: demonstrate an awareness of expected company goals and objectives | AG32: =SUM(C32:AD32) -> 0
A33: 1b.4 | B33: define basic business practices | AG33: =SUM(C33:AD33) -> 0
A34: 1b.5 | B34: explain department goals and procedures | AG34: =SUM(C34:AD34) -> 0
B35: Total Hours Spent | C35: =SUM(C30:C34) -> 0 | D35: =SUM(D30:D34) -> 0 | E35: =SUM(E30:E34) -> 0 | F35: =SUM(F30:F34) -> 0 | G35: =SUM(G30:G34) -> 0 | H35: =SUM(H30:H34) -> 0 | I35: =SUM(I30:I34) -> 0 | J35: =SUM(J30:J34) -> 0 | ... AD35: =SUM(AD30:AD34) -> 0 | AG35: =SUM(C35:AD35) -> 0 | AI35: =AG26+AG35 -> 5.75 | AJ35: ='Application by Block Classes 2'!AI35 -> 0 | AK35: =AI35+AJ35 -> 5.75 | AL35: =AK35/AK379 -> 0.050108932
C36: Hands-On | D36: =D35+F35+H35+N35+P35+V35+X35+Z35+AB35+AD35 -> 0 | E36: Theory | F36: =C35+E35+G35+M35+O35+U35+W35+Y35+AA35+AC35 -> 0 | AI36: =AI35/AI379 -> 0.16546763
A38: Section 2 | B38: Electronics/Electrical Systems
A39: 2.1 | B39: Fundamental Knowledge
B40: Atomic structure | AG40: =SUM(C40:AD40) -> 0
B41: Electron theory of electricity and magnetism | AG41: =SUM(C41:AD41) -> 0
B42: Capacitors and Batteries | AG42: =SUM(C42:AD42) -> 0
...

Sheet Application by Block Classes 2
A1: SCHOOL NAME: | C1: =IF(Coversheet!L2="","",Coversheet!L2) | P1: PROGRAM NAME: | S1: =IF(Coversheet!L8="","",Coversheet!L8) | AD1: DATE: | AE1: =IF(Coversheet!L1="","",Coversheet!L1)
A2: ADDRESS: | C2: =IF(Coversheet!L3="","",Coversheet!L3) | P2: PHONE/FAX: | S2: =IF(Coversheet!L9="","",Coversheet!L9)
A3: PERSON APPLYING AND TITLE: | C3: =IF(Coversheet!L4="","",Coversheet!L4) | P3: DEPT. CHAIR/HEAD: | S3: =IF(Coversheet!L10="","",Coversheet!L10)
A4: DEALER SPONSOR: | C4: =IF(Coversheet!L5="","",Coversheet!L5) | P4: CONTACT NAME: | S4: =IF(Coversheet!L11="","",Coversheet!L11)
A5: PHONE/FAX: | C5: =IF(Coversheet!L6="","",Coversheet!L6) | E5: EMAIL: | F5: =IF(Coversheet!L7="","",Coversheet!L7)
A6: AED Accreditation Program Analysis & Application
C7: PLEASE NOTE: 1. At the top of each column in the yellow cell fill the the course name or course number for each to be considered. 2. You are allowed to add columns if needed. 3. To make a note next to a row, insert a number in the "NO. FOR FOOT NOTE" column. and add to bottom of spreadsheet. | AI7: NO. FOR FOOT NOTE
B8: Course Areas
C9: Theory | D9: Hands-on | E9: Theory | F9: Hands-on | G9: Theory | H9: Hands-on | I9: Theory | J9: Hands-on | K9: Theory | L9: Hands-on | M9: Theory | N9: Hands-on | O9: Theory | P9: Hands-on | Q9: Theory | R9: Hands-on | S9: Theory | T9: Hands-on | U9: Theory | V9: Hands-on | W9: Theory | X9: Hands-on | Y9: Theory | Z9: Hands-on | AA9: Theory | AB9: Hands-on | AC9: Theory | AD9: Hands-on
A10: Section 1 | B10: Safe Operation
A11: 1a | B11: Theory and Operation
A12: 1a.1 | B12: Identification and use of basic tools | AG12: =SUM(C12:AD12) -> 0
A13: 1a.2 | B13: Use of lifting equipment | AG13: =SUM(C13:AD13) -> 0
A14: 1a.3 | B14: Use of various cleaning equipment | AG14: =SUM(C14:AD14) -> 0
A15: 1a.4 | B15: Use of fluid pressure testing equipment | AG15: =SUM(C15:AD15) -> 0
A16: 1a.5 | B16: Environment of a service facility | AG16: =SUM(C16:AD16) -> 0
A17: 1a.6 | B17: Machine operation and identificaiton | AG17: =SUM(C17:AD17) -> 0
A18: 1a.7 | B18: Mandated Regulations | AG18: =SUM(C18:AD18) -> 0
A19: 1a.8 | B19: Shop and in-field practices | AG19: =SUM(C19:AD19) -> 0
A20: 1a.9 | B20: Battery electric vehicles | AG20: =SUM(C20:AD20) -> 0
A21: 1a | B21: Hazard prevention and identification | AG21: =SUM(C21:AD21) -> 0
AG22: =SUM(C22:AD22) -> 0
AG23: =SUM(C23:AD23) -> 0
AG24: =SUM(C24:AD24) -> 0
AG25: =SUM(C25:AD25) -> 0
B26: Total Hours Spent | C26: =SUM(C12:C25) -> 0 | D26: =SUM(D12:D25) -> 0 | E26: =SUM(E12:E25) -> 0 | F26: =SUM(F12:F25) -> 0 | G26: =SUM(G12:G25) -> 0 | H26: =SUM(H12:H25) -> 0 | I26: =SUM(I12:I25) -> 0 | J26: =SUM(J10:J25) -> 0 | K26: =SUM(K10:K25) -> 0 | L26: =SUM(L10:L25) -> 0 | M26: =SUM(M10:M25) -> 0 | N26: =SUM(N10:N25) -> 0 | O26: =SUM(O10:O25) -> 0 | P26: =SUM(P10:P25) -> 0 | Q26: =SUM(Q10:Q25) -> 0 | ... AD26: =SUM(AD10:AD25) -> 0 | AG26: =SUM(C26:AD26) -> 0
C27: Hands-On | D27: =D26+F26+H26+N26+P26+V26+X26+Z26+AB26+AD26 -> 0 | E27: Theory | F27: =C26+E26+G26+M26+O26+U26+W26+Y26+AA26+AC26 -> 0
A29: 1b | B29: Adminstrative
B30: comprehend basic academic functions | AG30: =SUM(C30:AD30) -> 0
B31: utilize industry software and electronic communication systems and reference resources | AG31: =SUM(C31:AD31) -> 0
B32: demonstrate an awareness of expected company goals and objectives | AG32: =SUM(C32:AD32) -> 0
B33: define basic business practices | AG33: =SUM(C33:AD33) -> 0
B34: explain department goals and procedures | AG34: =SUM(C34:AD34) -> 0
B35: Total Hours Spent | C35: =SUM(C30:C34) -> 0 | D35: =SUM(D30:D34) -> 0 | E35: =SUM(E30:E34) -> 0 | F35: =SUM(F30:F34) -> 0 | G35: =SUM(G30:G34) -> 0 | H35: =SUM(H30:H34) -> 0 | I35: =SUM(I30:I34) -> 0 | J35: =SUM(J30:J34) -> 0 | ... AD35: =SUM(AD30:AD34) -> 0 | AG35: =SUM(C35:AD35) -> 0 | AI35: =AG35+AG26 -> 0
C36: Hands-On | D36: =D35+F35+H35+N35+P35+V35+X35+Z35+AB35+AD35 -> 0 | E36: Theory | F36: =C35+E35+G35+M35+O35+U35+W35+Y35+AA35+AC35 -> 0 | AI36: =(AG35+AG26)/C395 -> #DIV/0!
A38: Section 2 | B38: Electronics/Electrical Systems - Pgs. 27- 32
A39: 2.1 | B39: Fundamental Knowledge
B40: Atomic structure | AG40: =SUM(C40:AD40) -> 0
B41: Electron theory of electricity and magnetism | AG41: =SUM(C41:AD41) -> 0
B42: Capacitors and Batteries | AG42: =SUM(C42:AD42) -> 0
...
